BEGIN:VCALENDAR
VERSION:2.0
PRODID:-//namaz-api//EN
CALSCALE:GREGORIAN
METHOD:PUBLISH
X-WR-CALNAME:Namaz Hajj Milestones 1447 AH
X-WR-TIMEZONE:UTC
BEGIN:VEVENT
UID:hajj-milestone-dhul-hijjah-1-1447@namaz-api
DTSTAMP:20260422T025346Z
DTSTART;VALUE=DATE:20260518
DURATION:P1D
SUMMARY:1 Dhul-Hijjah (first of the ten best days)
DESCRIPTION:1 Зуль-Хиджа — первый из десяти луч
 ших дней | 1 Dhul-Hijjah 1447 AH | fasting_recommended=True fasting
 _forbidden=False
CATEGORIES:HAJJ_MILESTONE
END:VEVENT
BEGIN:VEVENT
UID:hajj-milestone-dhul-hijjah-2-1447@namaz-api
DTSTAMP:20260422T025346Z
DTSTART;VALUE=DATE:20260519
DURATION:P1D
SUMMARY:2 Dhul-Hijjah
DESCRIPTION:2 Зуль-Хиджа | 2 Dhul-Hijjah 1447 AH | fasting_recomme
 nded=True fasting_forbidden=False
CATEGORIES:HAJJ_MILESTONE
END:VEVENT
BEGIN:VEVENT
UID:hajj-milestone-dhul-hijjah-3-1447@namaz-api
DTSTAMP:20260422T025346Z
DTSTART;VALUE=DATE:20260520
DURATION:P1D
SUMMARY:3 Dhul-Hijjah
DESCRIPTION:3 Зуль-Хиджа | 3 Dhul-Hijjah 1447 AH | fasting_recomme
 nded=True fasting_forbidden=False
CATEGORIES:HAJJ_MILESTONE
END:VEVENT
BEGIN:VEVENT
UID:hajj-milestone-dhul-hijjah-4-1447@namaz-api
DTSTAMP:20260422T025346Z
DTSTART;VALUE=DATE:20260521
DURATION:P1D
SUMMARY:4 Dhul-Hijjah
DESCRIPTION:4 Зуль-Хиджа | 4 Dhul-Hijjah 1447 AH | fasting_recomme
 nded=True fasting_forbidden=False
CATEGORIES:HAJJ_MILESTONE
END:VEVENT
BEGIN:VEVENT
UID:hajj-milestone-dhul-hijjah-5-1447@namaz-api
DTSTAMP:20260422T025346Z
DTSTART;VALUE=DATE:20260522
DURATION:P1D
SUMMARY:5 Dhul-Hijjah
DESCRIPTION:5 Зуль-Хиджа | 5 Dhul-Hijjah 1447 AH | fasting_recomme
 nded=True fasting_forbidden=False
CATEGORIES:HAJJ_MILESTONE
END:VEVENT
BEGIN:VEVENT
UID:hajj-milestone-dhul-hijjah-6-1447@namaz-api
DTSTAMP:20260422T025346Z
DTSTART;VALUE=DATE:20260523
DURATION:P1D
SUMMARY:6 Dhul-Hijjah
DESCRIPTION:6 Зуль-Хиджа | 6 Dhul-Hijjah 1447 AH | fasting_recomme
 nded=True fasting_forbidden=False
CATEGORIES:HAJJ_MILESTONE
END:VEVENT
BEGIN:VEVENT
UID:hajj-milestone-dhul-hijjah-7-1447@namaz-api
DTSTAMP:20260422T025346Z
DTSTART;VALUE=DATE:20260524
DURATION:P1D
SUMMARY:7 Dhul-Hijjah
DESCRIPTION:7 Зуль-Хиджа | 7 Dhul-Hijjah 1447 AH | fasting_recomme
 nded=True fasting_forbidden=False
CATEGORIES:HAJJ_MILESTONE
END:VEVENT
BEGIN:VEVENT
UID:hajj-milestone-tarwiyah-1447@namaz-api
DTSTAMP:20260422T025346Z
DTSTART;VALUE=DATE:20260525
DURATION:P1D
SUMMARY:Yawm at-Tarwiyah (8 Dhul-Hijjah)
DESCRIPTION:Йаум ат-Тарвия (8 Зуль-Хиджа) | 8 Dhul-Hij
 jah 1447 AH | fasting_recommended=True fasting_forbidden=False
CATEGORIES:HAJJ_MILESTONE
END:VEVENT
BEGIN:VEVENT
UID:hajj-milestone-arafah-1447@namaz-api
DTSTAMP:20260422T025346Z
DTSTART;VALUE=DATE:20260526
DURATION:P1D
SUMMARY:Yawm Arafah (9 Dhul-Hijjah)
DESCRIPTION:День Арафат (9 Зуль-Хиджа) | 9 Dhul-Hijjah 1
 447 AH | fasting_recommended=True fasting_forbidden=False
CATEGORIES:HAJJ_MILESTONE
END:VEVENT
BEGIN:VEVENT
UID:hajj-milestone-eid-al-adha-1447@namaz-api
DTSTAMP:20260422T025346Z
DTSTART;VALUE=DATE:20260527
DURATION:P1D
SUMMARY:Yawm an-Nahr / Eid al-Adha (10 Dhul-Hijjah)
DESCRIPTION:Йаум ан-Нахр — Курбан-байрам (10 Зул
 ь-Хиджа) | 10 Dhul-Hijjah 1447 AH | fasting_recommended=False fastin
 g_forbidden=True
CATEGORIES:HAJJ_MILESTONE
END:VEVENT
BEGIN:VEVENT
UID:hajj-milestone-tashriq-1-1447@namaz-api
DTSTAMP:20260422T025346Z
DTSTART;VALUE=DATE:20260528
DURATION:P1D
SUMMARY:First day of Tashriq (11 Dhul-Hijjah)
DESCRIPTION:Первый день ат-Ташрика (11 Зуль-Хидж
 а) | 11 Dhul-Hijjah 1447 AH | fasting_recommended=False fasting_forbidden
 =True
CATEGORIES:HAJJ_MILESTONE
END:VEVENT
BEGIN:VEVENT
UID:hajj-milestone-tashriq-2-1447@namaz-api
DTSTAMP:20260422T025346Z
DTSTART;VALUE=DATE:20260529
DURATION:P1D
SUMMARY:Second day of Tashriq (12 Dhul-Hijjah)
DESCRIPTION:Второй день ат-Ташрика (12 Зуль-Хидж
 а) | 12 Dhul-Hijjah 1447 AH | fasting_recommended=False fasting_forbidden
 =True
CATEGORIES:HAJJ_MILESTONE
END:VEVENT
BEGIN:VEVENT
UID:hajj-milestone-tashriq-3-1447@namaz-api
DTSTAMP:20260422T025346Z
DTSTART;VALUE=DATE:20260530
DURATION:P1D
SUMMARY:Third day of Tashriq (13 Dhul-Hijjah)
DESCRIPTION:Третий день ат-Ташрика (13 Зуль-Хидж
 а) | 13 Dhul-Hijjah 1447 AH | fasting_recommended=False fasting_forbidden
 =True
CATEGORIES:HAJJ_MILESTONE
END:VEVENT
END:VCALENDAR
